BEGIN:VCALENDAR
VERSION:2.0
PRODID:-//Delaware State Bar Association - ECPv6.15.20//NONSGML v1.0//EN
CALSCALE:GREGORIAN
METHOD:PUBLISH
X-WR-CALNAME:Delaware State Bar Association
X-ORIGINAL-URL:https://www.dsba.org
X-WR-CALDESC:Events for Delaware State Bar Association
REFRESH-INTERVAL;VALUE=DURATION:PT1H
X-Robots-Tag:noindex
X-PUBLISHED-TTL:PT1H
BEGIN:VTIMEZONE
TZID:America/New_York
BEGIN:DAYLIGHT
TZOFFSETFROM:-0500
TZOFFSETTO:-0400
TZNAME:EDT
DTSTART:20250309T070000
END:DAYLIGHT
BEGIN:STANDARD
TZOFFSETFROM:-0400
TZOFFSETTO:-0500
TZNAME:EST
DTSTART:20251102T060000
END:STANDARD
BEGIN:DAYLIGHT
TZOFFSETFROM:-0500
TZOFFSETTO:-0400
TZNAME:EDT
DTSTART:20260308T070000
END:DAYLIGHT
BEGIN:STANDARD
TZOFFSETFROM:-0400
TZOFFSETTO:-0500
TZNAME:EST
DTSTART:20261101T060000
END:STANDARD
BEGIN:DAYLIGHT
TZOFFSETFROM:-0500
TZOFFSETTO:-0400
TZNAME:EDT
DTSTART:20270314T070000
END:DAYLIGHT
BEGIN:STANDARD
TZOFFSETFROM:-0400
TZOFFSETTO:-0500
TZNAME:EST
DTSTART:20271107T060000
END:STANDARD
END:VTIMEZONE
BEGIN:VEVENT
DTSTART;TZID=America/New_York:20260604T170000
DTEND;TZID=America/New_York:20260604T203000
DTSTAMP:20260420T073859
CREATED:20260326T204220Z
LAST-MODIFIED:20260415T131123Z
UID:58100-1780592400-1780605000@www.dsba.org
SUMMARY:Delaware Supreme Court 75th Anniversary
DESCRIPTION:REGISTRATION COST (INCLUDING DINNER): $125 per registrant\nThere will not be the option to purchase tables\, seating will be open.\nSteps to register: \n\nClick the add button to enter the quantity of each dinner choice (1 per registrant). \nEnter the name of each registrant next to the dinner choice. \n\nPlease be sure to choose a dinner for each person you are registering to ensure a meal is provided and registration is completed. \n\nClick submit to redirect to your shopping cart. \nVerify all information.\nComplete your payment and order submission.\n\n\nJavascript is disabledJavascript is disabled on your browser. Please enable it in order to use this form. \nLoading\n\n\n\n\n\n\n			\n\n\n\n75th Anniversary of the Delaware Supreme Court				\n\n\n						\nBeef Dinner  \n Add\n\n						\nFish Dinner  \n Add\n\n						\nVegetarian Dinner  \n Add\n\n\nTotal Due\n\n\n0\n\n\n\n		SUBMIT	\n Submit\nYour selections have been submittedThank you for your selections Resetting in  second(s) \nServer Side ErrorWe faced problems while connecting to the server or receiving data from the server. Please wait for a few seconds and try again. If the problem persists\, then check your internet connectivity. If all other sites open fine\, then please contact the administrator of this website with the following information. \nTextStatus: undefined\nHTTP Error: undefined Processing your request\nErrorSome error has occured.
URL:https://www.dsba.org/event/75th-anniversary/
LOCATION:Hotel duPont\, 42 West 11th Street\, Wilmington\, DE\, 19801\, United States
ATTACH;FMTTYPE=image/png:https://www.dsba.org/wp-content/uploads/2026/03/Seal_of_the_Supreme_Court_of_Delaware.svg-e1776200158834.png
END:VEVENT
END:VCALENDAR