BEGIN:VCALENDAR
VERSION:2.0
PRODID:-//Delaware State Bar Association - ECPv6.15.20//NONSGML v1.0//EN
CALSCALE:GREGORIAN
METHOD:PUBLISH
X-ORIGINAL-URL:https://www.dsba.org
X-WR-CALDESC:Events for Delaware State Bar Association
REFRESH-INTERVAL;VALUE=DURATION:PT1H
X-Robots-Tag:noindex
X-PUBLISHED-TTL:PT1H
BEGIN:VTIMEZONE
TZID:America/New_York
BEGIN:DAYLIGHT
TZOFFSETFROM:-0500
TZOFFSETTO:-0400
TZNAME:EDT
DTSTART:20230312T070000
END:DAYLIGHT
BEGIN:STANDARD
TZOFFSETFROM:-0400
TZOFFSETTO:-0500
TZNAME:EST
DTSTART:20231105T060000
END:STANDARD
BEGIN:DAYLIGHT
TZOFFSETFROM:-0500
TZOFFSETTO:-0400
TZNAME:EDT
DTSTART:20240310T070000
END:DAYLIGHT
BEGIN:STANDARD
TZOFFSETFROM:-0400
TZOFFSETTO:-0500
TZNAME:EST
DTSTART:20241103T060000
END:STANDARD
BEGIN:DAYLIGHT
TZOFFSETFROM:-0500
TZOFFSETTO:-0400
TZNAME:EDT
DTSTART:20250309T070000
END:DAYLIGHT
BEGIN:STANDARD
TZOFFSETFROM:-0400
TZOFFSETTO:-0500
TZNAME:EST
DTSTART:20251102T060000
END:STANDARD
END:VTIMEZONE
BEGIN:VEVENT
DTSTART;TZID=America/New_York:20240523T120000
DTEND;TZID=America/New_York:20240523T130000
DTSTAMP:20260422T180925
CREATED:20240430T195834Z
LAST-MODIFIED:20240521T162319Z
UID:43963-1716465600-1716469200@www.dsba.org
SUMMARY:Primer on Petitioning for a Name Change & Filing Motions to Proceed Under Seal in the Delaware Court of Common Pleas
DESCRIPTION:Sponsored by the LGBTQ+ Section of the Delaware State Bar Association & Delaware Volunteer Legal Services \n1.0 Hour of CLE credit for Delaware and Pennsylvania Attorneys\nCourse Materials\nThis seminar will be hosted in Wilmington at the new DSBA Conference Center and will be remote broadcasted to Dover and Georgetown. All locations will offer “live” CLE credit.\nWilmington (DSBA)– 704 North King Street\, Suite 110- We are accessible from North King Street only or from the Double Tree Parking Garage\nDover (Morris James)– 850 New Burton Rd Suite 101\, Dover\, DE 19904\nGeorgetown (Tunnell & Raysor)– 30 E Pine St\, Georgetown\, DE 19947\nCome hear from the Delaware Court of Common Pleas on how to appropriately file a Petition for a Name Change and a Motion to Proceed Under Seal.  This CLE will cover how to properly file these court documents and the common mistakes made by filers.  Attending this CLE will also serve as a refresher before the LGBTQ+ Section and Delaware Volunteer Legal Services (“DVLS”) team up for a name change clinic on Saturday\, June 1\, 2024 where those seeking name changes will be matched with a volunteer attorney to guide them through the name change process.\nSpeakers:\nWhitney L. Frame\, Esquire\nCourt of Common Pleas of the State of Delaware\nLawrence Pierce\nCourt of Common Pleas of the State of Delaware\n\nBrandon Newton\nCourt of Common Pleas of the State of Delaware\n \n\n\n\n\n\nCLE PRICING INFORMATION\nCost:\n\n\n\n\nDSBA Members\n$45\n\n\nDSBA Government Members\n$40\n\n\n\n\n\n\nNon-members (get member rate by JOINING)\n$140\n\n\nPennsylvania Credit – add:\n$4\n\n\n\n\n* advertised price is for the standard member rate. \nOUT OF STATE CLE CREDIT INFO \nThose attendees who wish to receive CLE credit\, other than from Delaware or Pennsylvania\, should contact their individual State’s CLE Commission for credit. The Delaware State Bar Association can provide you with the Agenda (included in the Materials sent with your registration confirmation) and a Certificate of Attendance (upon completion of the webinar)\, which should meet the requirements of compliance. \nAll rates include CLE Seminar and any materials. To register now or review DSBA CLE Policies\, click below.
URL:https://www.dsba.org/event/primer-on-petitioning-for-a-name-change-filing-motions-to-proceed-under-seal-in-the-delaware-court-of-common-pleas/
LOCATION:Wilmington\, Dover\, Georgetown\, 704 North King Street\, Suite 110\, wilmington\, Delaware(DE)\, 19801\, United States
CATEGORIES:CLE Seminar
END:VEVENT
END:VCALENDAR