BEGIN:VCALENDAR
VERSION:2.0
PRODID:-//Delaware State Bar Association - ECPv6.15.20//NONSGML v1.0//EN
CALSCALE:GREGORIAN
METHOD:PUBLISH
X-WR-CALNAME:Delaware State Bar Association
X-ORIGINAL-URL:https://www.dsba.org
X-WR-CALDESC:Events for Delaware State Bar Association
REFRESH-INTERVAL;VALUE=DURATION:PT1H
X-Robots-Tag:noindex
X-PUBLISHED-TTL:PT1H
BEGIN:VTIMEZONE
TZID:America/New_York
BEGIN:DAYLIGHT
TZOFFSETFROM:-0500
TZOFFSETTO:-0400
TZNAME:EDT
DTSTART:20250309T070000
END:DAYLIGHT
BEGIN:STANDARD
TZOFFSETFROM:-0400
TZOFFSETTO:-0500
TZNAME:EST
DTSTART:20251102T060000
END:STANDARD
BEGIN:DAYLIGHT
TZOFFSETFROM:-0500
TZOFFSETTO:-0400
TZNAME:EDT
DTSTART:20260308T070000
END:DAYLIGHT
BEGIN:STANDARD
TZOFFSETFROM:-0400
TZOFFSETTO:-0500
TZNAME:EST
DTSTART:20261101T060000
END:STANDARD
BEGIN:DAYLIGHT
TZOFFSETFROM:-0500
TZOFFSETTO:-0400
TZNAME:EDT
DTSTART:20270314T070000
END:DAYLIGHT
BEGIN:STANDARD
TZOFFSETFROM:-0400
TZOFFSETTO:-0500
TZNAME:EST
DTSTART:20271107T060000
END:STANDARD
END:VTIMEZONE
BEGIN:VEVENT
DTSTART;TZID=America/New_York:20260502T120000
DTEND;TZID=America/New_York:20260502T150000
DTSTAMP:20260420T120430
CREATED:20260317T194325Z
LAST-MODIFIED:20260409T192612Z
UID:57852-1777723200-1777734000@www.dsba.org
SUMMARY:MooStock Festival at Ramsey's Farm
DESCRIPTION:MOOOOOOOstock will feature: \nHayrides\nGames\nArts and Crafts\nRaffles and Prizes\nFood Truck\nIce Cream\nMooBounce \nAnd most importantly\, Good Vibes! \nFree Registration for our Members!\nPLEASE REGISTER BELOW: \n\nJavascript is disabledJavascript is disabled on your browser. Please enable it in order to use this form. \nLoading\n\n\n\n\n\n\n			\nMOOstock Festival 2026 Registration \n\n\n\n\n\n\n\n\nFirst Name\n\n\n\n\nLast Name\n\n\n\n\nEmail Address\n\n\nNumber of Adults*\n\n\nWrite Here\n\n\nNumber of Children*\n\n\nWrite Here\n Submit\nYour form has been submittedThank you %NAME% for you registration.\nYou can view it anytime from this link below:\n%TRACK_LINK%\nWe have also attached a copy of your submission. \nServer Side ErrorWe faced problems while connecting to the server or receiving data from the server. Please wait for a few seconds and try again. If the problem persists\, then check your internet connectivity. If all other sites open fine\, then please contact the administrator of this website with the following information. \nTextStatus: undefined\nHTTP Error: undefined Processing your request\nErrorSome error has occured.
URL:https://www.dsba.org/event/moostock-festival-at-ramseys-farm/
LOCATION:Ramsey’s Farm\, 440 Ramsey Rd\, Wilmington\, DE\, 19803\, United States
CATEGORIES:DSBA Event
ATTACH;FMTTYPE=image/png:https://www.dsba.org/wp-content/uploads/2026/03/Peace-Love-DSBA-Logo.png
END:VEVENT
BEGIN:VEVENT
DTSTART;TZID=America/New_York:20260513T120000
DTEND;TZID=America/New_York:20260513T130000
DTSTAMP:20260420T120430
CREATED:20260324T162639Z
LAST-MODIFIED:20260324T163653Z
UID:57972-1778673600-1778677200@www.dsba.org
SUMMARY:Service & Social
DESCRIPTION:Join us on Wednesday\, May 13\, 2026 at 12pm for our Service & Social. \nThe staff of the DSBA and Delaware Bar Foundation are looking for volunteers to help assemble bags for the graduates of the ILYA program. \nBags and supplies sponsored by the Delaware Bar Foundation. \nLunch will be provided. \nWhat is ILYA all about?\nILYA (Independent Living for Young Adults) is a volunteer social action program that serves Delaware young adults who have aged out of the foster care system. In collaboration with the Delaware Division of Family Services and their contracting agencies\, volunteers strive to provide these young adults with some material support\, encouragement\, and a sense that their community cares about them. At the present time\, ILYA coordinates with social service agencies in both New Castle and Kent Counties to supplement state provided resources.\nPlease register below\n\nJavascript is disabledJavascript is disabled on your browser. Please enable it in order to use this form. \nLoading\n\n\n\n\n\n\n			\nDSBA/ILYA Service & Social \n\n\n\n\n\n\n\n\nName\n\n\n\n\nEmail Address\n Submit\nYour form has been submittedThank you %NAME% for taking the time to register.\nYou can view your registration anytime from this link below:\n%TRACK_LINK% \nServer Side ErrorWe faced problems while connecting to the server or receiving data from the server. Please wait for a few seconds and try again. If the problem persists\, then check your internet connectivity. If all other sites open fine\, then please contact the administrator of this website with the following information. \nTextStatus: undefined\nHTTP Error: undefined Processing your request\nErrorSome error has occured.
URL:https://www.dsba.org/event/57972/
LOCATION:Delaware State Bar Association\, 704 North King Street\, Suite 110\, wilmington\, Delaware(DE)\, 19801
CATEGORIES:DSBA Event
ATTACH;FMTTYPE=image/jpeg:https://www.dsba.org/wp-content/uploads/2026/03/ILYA-1-300x192-1.jpg
END:VEVENT
BEGIN:VEVENT
DTSTART;TZID=America/New_York:20260514T163000
DTEND;TZID=America/New_York:20260514T183000
DTSTAMP:20260420T120430
CREATED:20260324T170141Z
LAST-MODIFIED:20260324T170141Z
UID:57986-1778776200-1778783400@www.dsba.org
SUMMARY:Torbert Street Takeover Happy Hour
DESCRIPTION:RSVP Below\n\nJavascript is disabledJavascript is disabled on your browser. Please enable it in order to use this form. \nLoading\n\n\n\n\n\n\n			\nTorbert Street Takeover Happy Hour \n\n\n\n\n\n\n\n\nName\n\n\n\n\nEmail Address\n Submit\nYour form has been submittedThank you %NAME% for taking the time to register.\nYou can view your registration anytime from this link below:\n%TRACK_LINK% \nServer Side ErrorWe faced problems while connecting to the server or receiving data from the server. Please wait for a few seconds and try again. If the problem persists\, then check your internet connectivity. If all other sites open fine\, then please contact the administrator of this website with the following information. \nTextStatus: undefined\nHTTP Error: undefined Processing your request\nErrorSome error has occured.
URL:https://www.dsba.org/event/torbert-street-takeover-happy-hour/
LOCATION:Torbert Street Social\, 305 Torbert Street\, Wilmington\, DE\, 19801\, United States
CATEGORIES:DSBA Event
ATTACH;FMTTYPE=image/jpeg:https://www.dsba.org/wp-content/uploads/2026/03/Happy-Hour.jpg
END:VEVENT
END:VCALENDAR