BEGIN:VCALENDAR
VERSION:2.0
PRODID:-//Delaware State Bar Association - ECPv6.15.20//NONSGML v1.0//EN
CALSCALE:GREGORIAN
METHOD:PUBLISH
X-WR-CALNAME:Delaware State Bar Association
X-ORIGINAL-URL:https://www.dsba.org
X-WR-CALDESC:Events for Delaware State Bar Association
REFRESH-INTERVAL;VALUE=DURATION:PT1H
X-Robots-Tag:noindex
X-PUBLISHED-TTL:PT1H
BEGIN:VTIMEZONE
TZID:America/New_York
BEGIN:DAYLIGHT
TZOFFSETFROM:-0500
TZOFFSETTO:-0400
TZNAME:EDT
DTSTART:20230312T070000
END:DAYLIGHT
BEGIN:STANDARD
TZOFFSETFROM:-0400
TZOFFSETTO:-0500
TZNAME:EST
DTSTART:20231105T060000
END:STANDARD
BEGIN:DAYLIGHT
TZOFFSETFROM:-0500
TZOFFSETTO:-0400
TZNAME:EDT
DTSTART:20240310T070000
END:DAYLIGHT
BEGIN:STANDARD
TZOFFSETFROM:-0400
TZOFFSETTO:-0500
TZNAME:EST
DTSTART:20241103T060000
END:STANDARD
BEGIN:DAYLIGHT
TZOFFSETFROM:-0500
TZOFFSETTO:-0400
TZNAME:EDT
DTSTART:20250309T070000
END:DAYLIGHT
BEGIN:STANDARD
TZOFFSETFROM:-0400
TZOFFSETTO:-0500
TZNAME:EST
DTSTART:20251102T060000
END:STANDARD
BEGIN:DAYLIGHT
TZOFFSETFROM:-0500
TZOFFSETTO:-0400
TZNAME:EDT
DTSTART:20260308T070000
END:DAYLIGHT
BEGIN:STANDARD
TZOFFSETFROM:-0400
TZOFFSETTO:-0500
TZNAME:EST
DTSTART:20261101T060000
END:STANDARD
BEGIN:DAYLIGHT
TZOFFSETFROM:-0500
TZOFFSETTO:-0400
TZNAME:EDT
DTSTART:20270314T070000
END:DAYLIGHT
BEGIN:STANDARD
TZOFFSETFROM:-0400
TZOFFSETTO:-0500
TZNAME:EST
DTSTART:20271107T060000
END:STANDARD
END:VTIMEZONE
BEGIN:VEVENT
DTSTART;TZID=America/New_York:20260304T130000
DTEND;TZID=America/New_York:20260304T150000
DTSTAMP:20260420T135434
CREATED:20260128T171834Z
LAST-MODIFIED:20260128T172501Z
UID:56448-1772629200-1772636400@www.dsba.org
SUMMARY:Active Shooter Response Training
DESCRIPTION:Active Shooter Response Training\nWednesday\, March 4\, 2026\n1:00 p.m. – 3:00 p.m.\nPresented by:\nMatthew Brown\, Owner and Instructor at Shoshin Karate Academy \nWe invite you to attend an Active Shooter Response Training designed to help attorneys and legal staff recognize potential warning signs\, respond effectively during an emergency\, and prioritize personal safety in the workplace. \nThis informative session will cover situational awareness\, response options\, and practical steps individuals can take before\, during\, and after a critical incident. The training focuses on preparedness\, prevention\, and informed decision-making in a calm\, educational setting. \nThis program is offered as a member enrichment opportunity and is open to all Delaware attorneys and law staff. While no CLE credit is available\, all are welcome and encouraged to attend. \nPreparedness saves lives. We hope you will join us for this important training. \nThe fee for all attendees is $10.00. \nRegistration Information
URL:https://www.dsba.org/event/active-shooter-training/
LOCATION:Delaware State Bar Association\, 704 North King Street\, Suite 110\, wilmington\, Delaware(DE)\, 19801
CATEGORIES:DSBA Event
ATTACH;FMTTYPE=image/png:https://www.dsba.org/wp-content/uploads/2026/01/RESPONSE-cropped.png
END:VEVENT
BEGIN:VEVENT
DTSTART;TZID=America/New_York:20260119T074500
DTEND;TZID=America/New_York:20260119T100000
DTSTAMP:20260420T135434
CREATED:20251105T144022Z
LAST-MODIFIED:20260325T235934Z
UID:54766-1768808700-1768816800@www.dsba.org
SUMMARY:Dr. Martin Luther King\, Jr. Breakfast and Statewide Day of Service 2026
DESCRIPTION:For More Information Click Here
URL:https://www.dsba.org/event/dr-martin-luther-king-jr-breakfast-and-statewide-day-of-service-2026/
LOCATION:Chase Center on the Riverfront\, 815 Justison Street\, Wilmington\, DE\, 19801\, United States
CATEGORIES:DSBA Event
ATTACH;FMTTYPE=image/jpeg:https://www.dsba.org/wp-content/uploads/2025/11/MLK-jpeg.jpeg
END:VEVENT
BEGIN:VEVENT
DTSTART;TZID=America/New_York:20251206T090000
DTEND;TZID=America/New_York:20251206T110000
DTSTAMP:20260420T135434
CREATED:20251106T211027Z
LAST-MODIFIED:20251112T193022Z
UID:54884-1765011600-1765018800@www.dsba.org
SUMMARY:Breakfast with Santa 2025
DESCRIPTION:CLICK HERE TO REGISTER ONLINE\nOR Scan the QR code below\n \nThank You To Our Sponsors!!\nPadua Academy\nWilmington Friends School\nSalesianum School
URL:https://www.dsba.org/event/breakfast-with-santa-2025/
LOCATION:Delaware State Bar Association\, 704 North King Street\, Suite 110\, wilmington\, Delaware(DE)\, 19801
CATEGORIES:DSBA Event
ATTACH;FMTTYPE=image/jpeg:https://www.dsba.org/wp-content/uploads/2025/11/Breakfast-With-Santa.jpg
END:VEVENT
BEGIN:VEVENT
DTSTART;TZID=America/New_York:20251202T120000
DTEND;TZID=America/New_York:20251202T140000
DTSTAMP:20260420T135434
CREATED:20251028T182624Z
LAST-MODIFIED:20251119T143503Z
UID:54539-1764676800-1764684000@www.dsba.org
SUMMARY:DSBA December Awards Luncheon 2025
DESCRIPTION:Registration Information\nTo purchase a table of 8 please contact dsadlercrew@dsba.org\n\n\n\n\n\nPricing\nCost\n\n\n\n\nGeneral Admission\n$45\n\n\nTable of 8\nContact: dsadlercrew@dsba.org
URL:https://www.dsba.org/event/dsba-december-awards-luncheon-2025/
LOCATION:Riverfront Events/Hyatt\, 760 Justison Street\, Wilmington\, DE\, 19801\, United States
CATEGORIES:DSBA Event
ATTACH;FMTTYPE=image/jpeg:https://www.dsba.org/wp-content/uploads/2025/10/awards-jpeg.jpeg
END:VEVENT
BEGIN:VEVENT
DTSTART;TZID=America/New_York:20251021T080000
DTEND;TZID=America/New_York:20251021T100000
DTSTAMP:20260420T135434
CREATED:20250919T160553Z
LAST-MODIFIED:20250926T164620Z
UID:53585-1761033600-1761040800@www.dsba.org
SUMMARY:CHRISTOPHER W. WHITE ACCESS TO JUSTICE AWARDS 2025
DESCRIPTION:Highlight your coworkers and fellow legal professionals that go above and beyond to serve our State. \n \nRegistration Information
URL:https://www.dsba.org/event/christopher-w-white-access-to-justice-awards-2025/
LOCATION:Riverfront Events/Hyatt\, 760 Justison Street\, Wilmington\, DE\, 19801\, United States
CATEGORIES:DSBA Event
ATTACH;FMTTYPE=image/png:https://www.dsba.org/wp-content/uploads/2025/09/CW.png
END:VEVENT
BEGIN:VEVENT
DTSTART;TZID=America/New_York:20250710T180000
DTEND;TZID=America/New_York:20250710T210000
DTSTAMP:20260420T135434
CREATED:20250501T141450Z
LAST-MODIFIED:20250501T145729Z
UID:50693-1752170400-1752181200@www.dsba.org
SUMMARY:LGBTQ+ SECTION SUMMER RECEPTION
DESCRIPTION:LGBTQ+ SECTION SUMMER RECEPTION
URL:https://www.dsba.org/event/lgbtq-section-summer-reception/
LOCATION:The Queen\, Olympia Room\, 500 N Market St.\, Wilmington\, DE\, 19801\, United States
CATEGORIES:DSBA Event,Section Event,Section Event
ATTACH;FMTTYPE=image/png:https://www.dsba.org/wp-content/uploads/2025/05/Screenshot-2025-05-01-105644.png
ORGANIZER;CN="Zach Stirparo":MAILTO:Zachary.Stirparo@delaware.gov
END:VEVENT
BEGIN:VEVENT
DTSTART;TZID=America/New_York:20250519T120000
DTEND;TZID=America/New_York:20250519T140000
DTSTAMP:20260420T135434
CREATED:20250411T144341Z
LAST-MODIFIED:20250516T134158Z
UID:50345-1747656000-1747663200@www.dsba.org
SUMMARY:Law Day 2025
DESCRIPTION:THIS EVENT IS NOW SOLD OUT. WE APOLOGIZE FOR ANY INCONVENIENCE.
URL:https://www.dsba.org/event/law-day-2025/
LOCATION:Riverfront Events/Hyatt\, 760 Justison Street\, Wilmington\, DE\, 19801\, United States
CATEGORIES:DSBA Event
ATTACH;FMTTYPE=image/jpeg:https://www.dsba.org/wp-content/uploads/2025/04/law-day-image.jpg
END:VEVENT
BEGIN:VEVENT
DTSTART;TZID=America/New_York:20250516T180000
DTEND;TZID=America/New_York:20250516T220000
DTSTAMP:20260420T135434
CREATED:20250417T135728Z
LAST-MODIFIED:20250417T140439Z
UID:50462-1747418400-1747432800@www.dsba.org
SUMMARY:DSBA Member Appreciation Night at Blue Rocks Stadium
DESCRIPTION:CLICK HERE TO REGISTER\nSeating is limited\, reserve your tickets by 5/12/2025
URL:https://www.dsba.org/event/dsba-member-appreciation-night-at-blue-rocks-stadium/
LOCATION:Wilmington Blue Rocks-  Daniel S Frawley Stadium\, 801 Shipyard Drive\, Wilmington\, DE\, United States
CATEGORIES:DSBA Event
ATTACH;FMTTYPE=image/jpeg:https://www.dsba.org/wp-content/uploads/2025/04/DSBA-NIGHT.jpg
END:VEVENT
BEGIN:VEVENT
DTSTART;TZID=America/New_York:20250307T190000
DTEND;TZID=America/New_York:20250307T220000
DTSTAMP:20260420T135434
CREATED:20250212T151730Z
LAST-MODIFIED:20250212T202955Z
UID:49439-1741374000-1741384800@www.dsba.org
SUMMARY:DSBA Game Night
DESCRIPTION:Click Here to Purchase Tickets
URL:https://www.dsba.org/event/dsba-game-night/
LOCATION:DE
CATEGORIES:DSBA Event
ATTACH;FMTTYPE=image/jpeg:https://www.dsba.org/wp-content/uploads/2025/02/BlueCoats.jpeg
END:VEVENT
BEGIN:VEVENT
DTSTART;TZID=America/New_York:20250120T080000
DTEND;TZID=America/New_York:20250120T103000
DTSTAMP:20260420T135434
CREATED:20241220T203123Z
LAST-MODIFIED:20250113T160057Z
UID:48569-1737360000-1737369000@www.dsba.org
SUMMARY:2025 Annual Dr. Martin Luther King Jr. Breakfast & Day of Service
DESCRIPTION:This year\, the DSBA welcomes Dr. Eddie Glaude\, Jr. as the keynote speaker for our Annual Breakfast Programming honoring the life and legacy of Dr. Martin Luther King Jr. For the majority of Americans\, the image of Dr. King is frozen in time. This keynote address examines a critical juncture in the life of Martin Luther King Jr.\, where he grappled with despair and disillusionment over the country’s direction. “We long for a Dr. King or an Abe Lincoln\, because we don’t see our own capabilities as being sufficient\,” Dr. Glaude has said. “History converged in a way that called Dr. King forward\, and he answered the call. That can happen to anybody. We don’t need another Martin Luther King. We need everyday\, ordinary people. We are the leaders we’ve been looking for.”  We look forward to hearing Dr. Glaude’s insights on what we all must do to make America live up to its promise—to turn abstraction into action and become agents of change. \nService Projects: You may contribute to this year’s “Amazon Middle School Drive Registry” here: https://www.amazon.com/registries/gl/guest-view/PJLLKO1JASAC\, or sign up as an attorney-volunteer for our “Day of Service Wills Clinic” here https://us02web.zoom.us/webinar/register/WN_z-8Y_IZvSl2eIn9QF8nWSA (registrants must be Delaware-licensed attorneys). Other volunteer opportunities will be made available for registration on the DSBA’s website in January 2025. \n\nSponsorships: If you are interested in serving as a sponsor for the DSBA’s 2025 Dr. Martin Luther King Jr. Annual Breakfast and Statewide Day of Service\, please contact Kendeil A. Dorvilier\, Esq. at kdorvilier@mccarter.com for the appropriate form.  Completed forms are due by December 31\, 2024. \nCLICK HERE TO REGISTER
URL:https://www.dsba.org/event/48569/
LOCATION:Chase Center on the Riverfront\, 815 Justison Street\, Wilmington\, DE\, 19801\, United States
CATEGORIES:DSBA Event
ATTACH;FMTTYPE=image/jpeg:https://www.dsba.org/wp-content/uploads/2024/12/MLK2025.jpg
END:VEVENT
BEGIN:VEVENT
DTSTART;TZID=America/New_York:20241213T120000
DTEND;TZID=America/New_York:20241213T140000
DTSTAMP:20260420T135434
CREATED:20241101T181525Z
LAST-MODIFIED:20241112T202954Z
UID:47265-1734091200-1734098400@www.dsba.org
SUMMARY:DSBA December Awards 2024
DESCRIPTION:Registration Information\nTo purchase a table of 8 please contact dsadlercrew@dsba.org\n\n\n\n\n\nPricing\nCost\n\n\n\n\nGeneral Admission\n$45\n\n\nTable of 8\nContact: dsadlercrew@dsba.org
URL:https://www.dsba.org/event/dsba-december-awards-2024/
LOCATION:Riverfront Events/Hyatt\, 760 Justison Street\, Wilmington\, DE\, 19801\, United States
CATEGORIES:DSBA Event
ATTACH;FMTTYPE=image/jpeg:https://www.dsba.org/wp-content/uploads/2024/11/Dec-Awards.jpeg
END:VEVENT
BEGIN:VEVENT
DTSTART;TZID=America/New_York:20241207T090000
DTEND;TZID=America/New_York:20241207T110000
DTSTAMP:20260420T135434
CREATED:20241101T185932Z
LAST-MODIFIED:20241101T220641Z
UID:46869-1733562000-1733569200@www.dsba.org
SUMMARY:Breakfast with Santa
DESCRIPTION:Register here: https://dsbasanta.eventbrite.com/\nChildren under 2 are FREE!
URL:https://www.dsba.org/event/breakfast-with-santa/
LOCATION:Delaware State Bar Association\, 704 North King Street\, Suite 110\, wilmington\, Delaware(DE)\, 19801
CATEGORIES:DSBA Event
END:VEVENT
BEGIN:VEVENT
DTSTART;TZID=America/New_York:20241115T193000
DTEND;TZID=America/New_York:20241117T140000
DTSTAMP:20260420T135434
CREATED:20241029T173704Z
LAST-MODIFIED:20241101T191041Z
UID:47193-1731699000-1731852000@www.dsba.org
SUMMARY:Profundo Bono\, Inc. | Anna Karenina
DESCRIPTION:Purchase tickets at:
URL:https://www.dsba.org/event/profundo-bono-inc-anna-karenina/
LOCATION:DE
CATEGORIES:DSBA Event
ATTACH;FMTTYPE=image/png:https://www.dsba.org/wp-content/uploads/2024/10/image001.png
END:VEVENT
BEGIN:VEVENT
DTSTART;TZID=America/New_York:20241022T080000
DTEND;TZID=America/New_York:20241022T100000
DTSTAMP:20260420T135434
CREATED:20231002T183748Z
LAST-MODIFIED:20241004T161335Z
UID:40138-1729584000-1729591200@www.dsba.org
SUMMARY:CHRISTOPHER W. WHITE ACCESS TO JUSTICE AWARDS 2024
DESCRIPTION:Highlight your coworkers and fellow legal professionals that go above and beyond to serve our State. \nthis is not a CLE\, BUT PLEASE USE THE BUTTONS TO REGISTER \nRegistration Information
URL:https://www.dsba.org/event/christopher-w-white-access-to-justice-awards/
LOCATION:Riverfront Events/Hyatt\, 760 Justison Street\, Wilmington\, DE\, 19801\, United States
CATEGORIES:DSBA Event
ATTACH;FMTTYPE=image/png:https://www.dsba.org/wp-content/uploads/2023/10/Black-Gold-Award-Nomination-Ceremony-Event-Poster-for-website.png
END:VEVENT
BEGIN:VEVENT
DTSTART;TZID=America/New_York:20241019T130000
DTEND;TZID=America/New_York:20241019T160000
DTSTAMP:20260420T135434
CREATED:20240912T134115Z
LAST-MODIFIED:20241011T192411Z
UID:46007-1729342800-1729353600@www.dsba.org
SUMMARY:Delaware State Bar Association's Fall Festival
DESCRIPTION:Please go to https://dsbafallfest.eventbrite.com to register.
URL:https://www.dsba.org/event/delaware-state-bar-associations-fall-festival/
LOCATION:Ramsey’s Farm\, 500 Ramsey Road\, Wilmington\, DE\, 19803\, United States
CATEGORIES:DSBA Event
ATTACH;FMTTYPE=image/png:https://www.dsba.org/wp-content/uploads/2024/09/Fall-Fest-2024.png
END:VEVENT
BEGIN:VEVENT
DTSTART;TZID=America/New_York:20241017T110000
DTEND;TZID=America/New_York:20241017T130000
DTSTAMP:20260420T135434
CREATED:20241001T183550Z
LAST-MODIFIED:20241004T163327Z
UID:46489-1729162800-1729170000@www.dsba.org
SUMMARY:Free Flu and/or Covid 19 Shot Clinic
DESCRIPTION:
URL:https://www.dsba.org/event/free-flu-and-or-covid-19-shot-clinic/
LOCATION:Delaware State Bar Association\, 704 North King Street\, Suite 110\, wilmington\, Delaware(DE)\, 19801
CATEGORIES:DSBA Event
ATTACH;FMTTYPE=image/png:https://www.dsba.org/wp-content/uploads/2024/10/Delaware-State-Bar-Association-4.png
END:VEVENT
END:VCALENDAR