BEGIN:VCALENDAR
VERSION:2.0
PRODID:-//Delaware State Bar Association - ECPv6.15.20//NONSGML v1.0//EN
CALSCALE:GREGORIAN
METHOD:PUBLISH
X-ORIGINAL-URL:https://www.dsba.org
X-WR-CALDESC:Events for Delaware State Bar Association
REFRESH-INTERVAL;VALUE=DURATION:PT1H
X-Robots-Tag:noindex
X-PUBLISHED-TTL:PT1H
BEGIN:VTIMEZONE
TZID:America/New_York
BEGIN:DAYLIGHT
TZOFFSETFROM:-0500
TZOFFSETTO:-0400
TZNAME:EDT
DTSTART:20240310T070000
END:DAYLIGHT
BEGIN:STANDARD
TZOFFSETFROM:-0400
TZOFFSETTO:-0500
TZNAME:EST
DTSTART:20241103T060000
END:STANDARD
BEGIN:DAYLIGHT
TZOFFSETFROM:-0500
TZOFFSETTO:-0400
TZNAME:EDT
DTSTART:20250309T070000
END:DAYLIGHT
BEGIN:STANDARD
TZOFFSETFROM:-0400
TZOFFSETTO:-0500
TZNAME:EST
DTSTART:20251102T060000
END:STANDARD
BEGIN:DAYLIGHT
TZOFFSETFROM:-0500
TZOFFSETTO:-0400
TZNAME:EDT
DTSTART:20260308T070000
END:DAYLIGHT
BEGIN:STANDARD
TZOFFSETFROM:-0400
TZOFFSETTO:-0500
TZNAME:EST
DTSTART:20261101T060000
END:STANDARD
END:VTIMEZONE
BEGIN:VEVENT
DTSTART;TZID=America/New_York:20250710T180000
DTEND;TZID=America/New_York:20250710T210000
DTSTAMP:20260421T041114
CREATED:20250501T141450Z
LAST-MODIFIED:20250501T145729Z
UID:50693-1752170400-1752181200@www.dsba.org
SUMMARY:LGBTQ+ SECTION SUMMER RECEPTION
DESCRIPTION:LGBTQ+ SECTION SUMMER RECEPTION
URL:https://www.dsba.org/event/lgbtq-section-summer-reception/
LOCATION:The Queen\, Olympia Room\, 500 N Market St.\, Wilmington\, DE\, 19801\, United States
CATEGORIES:DSBA Event,Section Event,Section Event
ATTACH;FMTTYPE=image/png:https://www.dsba.org/wp-content/uploads/2025/05/Screenshot-2025-05-01-105644.png
ORGANIZER;CN="Zach Stirparo":MAILTO:Zachary.Stirparo@delaware.gov
END:VEVENT
END:VCALENDAR