BEGIN:VCALENDAR
VERSION:2.0
PRODID:-//Delaware State Bar Association - ECPv6.15.20//NONSGML v1.0//EN
CALSCALE:GREGORIAN
METHOD:PUBLISH
X-ORIGINAL-URL:https://www.dsba.org
X-WR-CALDESC:Events for Delaware State Bar Association
REFRESH-INTERVAL;VALUE=DURATION:PT1H
X-Robots-Tag:noindex
X-PUBLISHED-TTL:PT1H
BEGIN:VTIMEZONE
TZID:America/New_York
BEGIN:DAYLIGHT
TZOFFSETFROM:-0500
TZOFFSETTO:-0400
TZNAME:EDT
DTSTART:20230312T070000
END:DAYLIGHT
BEGIN:STANDARD
TZOFFSETFROM:-0400
TZOFFSETTO:-0500
TZNAME:EST
DTSTART:20231105T060000
END:STANDARD
BEGIN:DAYLIGHT
TZOFFSETFROM:-0500
TZOFFSETTO:-0400
TZNAME:EDT
DTSTART:20240310T070000
END:DAYLIGHT
BEGIN:STANDARD
TZOFFSETFROM:-0400
TZOFFSETTO:-0500
TZNAME:EST
DTSTART:20241103T060000
END:STANDARD
BEGIN:DAYLIGHT
TZOFFSETFROM:-0500
TZOFFSETTO:-0400
TZNAME:EDT
DTSTART:20250309T070000
END:DAYLIGHT
BEGIN:STANDARD
TZOFFSETFROM:-0400
TZOFFSETTO:-0500
TZNAME:EST
DTSTART:20251102T060000
END:STANDARD
END:VTIMEZONE
BEGIN:VEVENT
DTSTART;TZID=America/New_York:20240531T090000
DTEND;TZID=America/New_York:20240531T163000
DTSTAMP:20260421T100128
CREATED:20240409T144855Z
LAST-MODIFIED:20240516T180213Z
UID:43668-1717146000-1717173000@www.dsba.org
SUMMARY:Fundamentals of Family Law 2024
DESCRIPTION:Sponsored by the Family Law Section of the Delaware State Bar Association \n6.3 Hours of CLE credit including 0.8 Hours of Enhanced Ethics for Delaware Attorneys\n6.0 Hours of CLE credit including 0.5 Hours of Enhanced Ethics for Pennsylvania Attorneys \nRegistration FormCourse Materials×Best Practices in the Court of Common Pleas and Justice of the Peace Court\n\n\n					\n			Registration Type:\n			\n				Non-Member			\n\n							- \n					$250.00				\n			\n			 (Please click here to login for member pricing discount)		\n	\n\n\n	\n	\n		Location:\n		\n			\n			\n			DSBA Learning Center\n		\n			\n			\n			Georgetown - Tunnell & Raysor\n		\n			\n			\n			Dover - Morris James\n		\n			\n			\n			Seaford - Aleman & Associates\n		\n	\n	\n\n	\n					Credits:\n				\n			\n\n\n\n	\n		\n		\n			PA Credit - $12.00		\n	\n\n	\n\n		\n			\n			PA ID #:\n			\n			\n			\n			\n				\n					Please enter your PA ID Number\n				\n							\n		\n\n	\n\n\n\n\n\n	\n		\n		\n			NJ Credit - $12.00		\n	\n\n	\n\n		\n			\n			NJ ID #:\n			\n			\n			\n			\n				\n					Please enter your NJ ID Number\n				\n									\n						Please check video description to make sure NJ credit is offered before checking this box.					\n							\n		\n\n	\n\n\n			\n\n\n\n\n\n\n	\n		Add To Cart\n	\n\n	\n		Cancel\n	\n\n\nRegister OnlineAdding to Cart... \nLive locations:  \nWilmington- DSBA- 704 North King Street\, Wilmington\, DE 19801\nDover- Morris James– 850 New Burton Rd Suite 101\, Dover\, DE 19904\nGeorgetown- Tunnell & Raysor–  30 E Pine St\, Georgetown\, DE 19947 \nFundamentals of Family Law 2024 – CLE Schedule\n9:00 a.m. – 10:00 a.m.\nTPR/Dependency/Neglect \nThe Honorable Peter B. Jones\nFamily Court of the State of Delaware \nKelly C. Ensslin\, Esquire\nOffice of the Child Advocate \nShauna Hagan\, Esquire\nLaw Offices of Shauna T. Hagan\, LLC \nIslanda L. Finamore\, Esquire\nDelaware Department of Justice \n10:00 a.m. – 10:15 a.m.\nBreak \n10:15 a.m. – 11:00 a.m.\nPFA & Domestic Violence \nJacquelyn A. Chacona\, Esquire\nDelaware Volunteer Legal Services\, Inc. \nAngela L. Desmond\, Esauire\nDelaware Volunteer Legal Services\, Inc.  \nLeslie B. Spoltore\, Esq.\nObermayer Rebmann Maxwell & Hippel LLP \n11:00 a.m. – 11:30 a.m.\nEthics and Family Law \nThe Honorable Michael K. Newell\nFamily Court of the State of Delaware \n11:30 a.m. – 12:15 p.m.\nGuardianship \nThe Honorable Felice G. Kerr\nFamily Court of the State of Delaware \nJill Spevack Di Sciullo\, Esquire\nMorris James LLP \nJohn Macconi\, Esquire\nJohn A. Macconi\, Jr. LLC \n12:15 p.m. – 1:00 p.m.\nLunch (on your own) \n1:00 p.m. – 2:00 p.m.\nChild Support \nThe Honorable James J. Maxwell\nFamily Court of the State of Delaware \nAchille C. Scache\, Esquire\nGiordano\, DelCollo\, Werb & Gagne\, LLC \n2:00 p.m. – 2:45 p.m.\nCustody & Visitation \nThe Honorable Arlene Minus Coppadge\nFamily Court of the State of the Delaware \nSean M. Lynn\, Esquire\nThe Lynn Firm\, P.A.  \n2:45 p.m. – 3:00 p.m.\nBreak \n3:00 p.m. – 3:45 p.m.\nDivorce with Ancillary Matters \nThe Honorable Michael W. Arrington\nFamily Court of the State of Delaware \nCurtis Bounds\, Esquire\nBayard\, P.A.  \n3:45 p.m. – 4:15 p.m.\nJuvenile Justice \nThe Honorable Francis Mieczkowski\, III\nFamily Court of the State of Delaware \nKelly Singleton\, Esquire\nDelaware Department of Justice \nPaige C. Chapman\, Esquire\nOffice of Defense Services \n4:15 p.m. – 4:30 p.m.\nThe “Delaware Way” \nGeorge Tsakataras\, Esquire\nLaw Office of George R. Tsakataras\, P.A. \n\n\n\n\n\nCLE PRICING INFORMATION\nCost:\n\n\n\n\nNew Admittee\n$75\n\n\nDSBA Members\n$300\n\n\n\n\n\n\nNon-members (get member rate by JOINING)\n$450\n\n\nPennsylvania Credit – add:\n$18\n\n\n\n\n* advertised price is for the standard member rate. \nOUT OF STATE CLE CREDIT INFO \nThose attendees who wish to receive CLE credit\, other than from Delaware or Pennsylvania\, should contact their individual State’s CLE Commission for credit. The Delaware State Bar Association can provide you with the Agenda (included in the Materials sent with your registration confirmation) and a Certificate of Attendance (upon completion of the webinar)\, which should meet the requirements of compliance. \nAll rates include CLE Seminar and any materials. To register now or review DSBA CLE Policies\, click below.
URL:https://www.dsba.org/event/fundamentals-of-family-law-2024/
LOCATION:Wilmington\, Dover\, Georgetown\, 704 North King Street\, Suite 110\, wilmington\, Delaware(DE)\, 19801\, United States
CATEGORIES:CLE Seminar
ATTACH;FMTTYPE=image/jpeg:https://www.dsba.org/wp-content/uploads/2024/04/DSBA-Event-Photo.jpg
END:VEVENT
END:VCALENDAR