BEGIN:VCALENDAR
VERSION:2.0
PRODID:-//Delaware State Bar Association - ECPv6.15.20//NONSGML v1.0//EN
CALSCALE:GREGORIAN
METHOD:PUBLISH
X-ORIGINAL-URL:https://www.dsba.org
X-WR-CALDESC:Events for Delaware State Bar Association
REFRESH-INTERVAL;VALUE=DURATION:PT1H
X-Robots-Tag:noindex
X-PUBLISHED-TTL:PT1H
BEGIN:VTIMEZONE
TZID:America/New_York
BEGIN:DAYLIGHT
TZOFFSETFROM:-0500
TZOFFSETTO:-0400
TZNAME:EDT
DTSTART:20230312T070000
END:DAYLIGHT
BEGIN:STANDARD
TZOFFSETFROM:-0400
TZOFFSETTO:-0500
TZNAME:EST
DTSTART:20231105T060000
END:STANDARD
BEGIN:DAYLIGHT
TZOFFSETFROM:-0500
TZOFFSETTO:-0400
TZNAME:EDT
DTSTART:20240310T070000
END:DAYLIGHT
BEGIN:STANDARD
TZOFFSETFROM:-0400
TZOFFSETTO:-0500
TZNAME:EST
DTSTART:20241103T060000
END:STANDARD
BEGIN:DAYLIGHT
TZOFFSETFROM:-0500
TZOFFSETTO:-0400
TZNAME:EDT
DTSTART:20250309T070000
END:DAYLIGHT
BEGIN:STANDARD
TZOFFSETFROM:-0400
TZOFFSETTO:-0500
TZNAME:EST
DTSTART:20251102T060000
END:STANDARD
END:VTIMEZONE
BEGIN:VEVENT
DTSTART;TZID=America/New_York:20240530T100000
DTEND;TZID=America/New_York:20240530T113000
DTSTAMP:20260421T100043
CREATED:20240502T160346Z
LAST-MODIFIED:20260106T172734Z
UID:43997-1717063200-1717068600@www.dsba.org
SUMMARY:How to Break Bad News Without Breaking Your Professional Career
DESCRIPTION:Sponsored by the Litigation Section of the Delaware State Bar Association \n1.5 Hour CLE credit in Enhanced Ethics for Delaware and Pennsylvania Attorneys\nRegistration FormCourse Materials×Best Practices in the Court of Common Pleas and Justice of the Peace Court\n\n\n					\n			Registration Type:\n			\n				Non-Member			\n\n							- \n					$250.00				\n			\n			 (Please click here to login for member pricing discount)		\n	\n\n\n	\n	\n		Location:\n		\n			\n			\n			DSBA Learning Center\n		\n			\n			\n			Georgetown - Tunnell & Raysor\n		\n			\n			\n			Dover - Morris James\n		\n			\n			\n			Seaford - Aleman & Associates\n		\n	\n	\n\n	\n					Credits:\n				\n			\n\n\n\n	\n		\n		\n			PA Credit - $12.00		\n	\n\n	\n\n		\n			\n			PA ID #:\n			\n			\n			\n			\n				\n					Please enter your PA ID Number\n				\n							\n		\n\n	\n\n\n\n\n\n	\n		\n		\n			NJ Credit - $12.00		\n	\n\n	\n\n		\n			\n			NJ ID #:\n			\n			\n			\n			\n				\n					Please enter your NJ ID Number\n				\n									\n						Please check video description to make sure NJ credit is offered before checking this box.					\n							\n		\n\n	\n\n\n			\n\n\n\n\n\n\n	\n		Add To Cart\n	\n\n	\n		Cancel\n	\n\n\nRegister OnlineAdding to Cart... \nThis seminar will be hosted in Wilmington at the new DSBA Conference Center and will be remote broadcasted to Dover and Georgetown. All locations will offer “live” CLE credit.\nWilmington (DSBA)– 704 North King Street\, Suite 110- We are accessible from North King Street only or from the Double Tree Parking Garage\nDover (Morris James)– 850 New Burton Rd Suite 101\, Dover\, DE 19904\nGeorgetown (Tunnell & Raysor)– 30 E Pine St\, Georgetown\, DE 19947\nJoin us for a discussion between our speakers on how to give clients bad news and what happens when clients then report you to ODC.\nSpeaker: \nWilliam B. Larson\, Esquire\nManning Gross & Massenburg LLP \nSpeaker: \nCharles Slanina\, Esquire\nFinger & Slanina\, LLC \nSpeaker:  \nOffice of Disciplinary Counsel  \n\n\n\n\n\nCLE PRICING INFORMATION\nCost:\n\n\n\n\nDSBA Members\n$90\n\n\nDSBA Government Members\n$85\n\n\n\n\n\n\nNon-members (get member rate by JOINING)\n$190\n\n\nPennsylvania Credit – add:\n$6\n\n\n\n\n* advertised price is for the standard member rate. \nOUT OF STATE CLE CREDIT INFO \nThose attendees who wish to receive CLE credit\, other than from Delaware or Pennsylvania\, should contact their individual State’s CLE Commission for credit. The Delaware State Bar Association can provide you with the Agenda (included in the Materials sent with your registration confirmation) and a Certificate of Attendance (upon completion of the webinar)\, which should meet the requirements of compliance. \nAll rates include CLE Seminar and any materials. To register now or review DSBA CLE Policies\, click below.
URL:https://www.dsba.org/event/how-to-break-bad-news-without-breaking-your-professional-career/
LOCATION:Wilmington\, Dover\, Georgetown\, 704 North King Street\, Suite 110\, wilmington\, Delaware(DE)\, 19801\, United States
CATEGORIES:CLE Seminar
END:VEVENT
END:VCALENDAR