BEGIN:VCALENDAR
VERSION:2.0
PRODID:-//Delaware State Bar Association - ECPv6.15.20//NONSGML v1.0//EN
CALSCALE:GREGORIAN
METHOD:PUBLISH
X-WR-CALNAME:Delaware State Bar Association
X-ORIGINAL-URL:https://www.dsba.org
X-WR-CALDESC:Events for Delaware State Bar Association
REFRESH-INTERVAL;VALUE=DURATION:PT1H
X-Robots-Tag:noindex
X-PUBLISHED-TTL:PT1H
BEGIN:VTIMEZONE
TZID:America/New_York
BEGIN:DAYLIGHT
TZOFFSETFROM:-0500
TZOFFSETTO:-0400
TZNAME:EDT
DTSTART:20230312T070000
END:DAYLIGHT
BEGIN:STANDARD
TZOFFSETFROM:-0400
TZOFFSETTO:-0500
TZNAME:EST
DTSTART:20231105T060000
END:STANDARD
BEGIN:DAYLIGHT
TZOFFSETFROM:-0500
TZOFFSETTO:-0400
TZNAME:EDT
DTSTART:20240310T070000
END:DAYLIGHT
BEGIN:STANDARD
TZOFFSETFROM:-0400
TZOFFSETTO:-0500
TZNAME:EST
DTSTART:20241103T060000
END:STANDARD
BEGIN:DAYLIGHT
TZOFFSETFROM:-0500
TZOFFSETTO:-0400
TZNAME:EDT
DTSTART:20250309T070000
END:DAYLIGHT
BEGIN:STANDARD
TZOFFSETFROM:-0400
TZOFFSETTO:-0500
TZNAME:EST
DTSTART:20251102T060000
END:STANDARD
END:VTIMEZONE
BEGIN:VEVENT
DTSTART;TZID=America/New_York:20240507T083000
DTEND;TZID=America/New_York:20240507T163000
DTSTAMP:20260421T114639
CREATED:20240318T165237Z
LAST-MODIFIED:20240502T202527Z
UID:43418-1715070600-1715099400@www.dsba.org
SUMMARY:Workers' Compensation 2024
DESCRIPTION:Sponsored by the Workers’ Compensation Section of the Delaware State Bar Association \nRegistration is CLOSED. We cannot accept any walk-ins at the event. \n6.3 Hours of CLE Credit including 1.0 Hour of Enhanced Ethics credit for Delaware Attorneys\n6.0 Hours of CLE Credit including 1.0 Hour of Enhanced Ethics credit for Pennsylvania Attorneys \nThis seminar will be held at Riverfront Events in Wilmington and will offer live CLE credit. For any questions\, please email reception@dsba.org.\nModerator:  \nLeroy A. Tice\, Esquire\nLeroy A. Tice\, Esquire\, P.A. \n. \n8:30am-8:45am\nIntroductory Remarks \nElissa A. Greenberg\, Esquire\nLong & Greenberg\, LLC\nChair of the Workers’ Compensation Section \n8:45am-9:15am\nAddress from the Industrial Accident Board \nThe Honorable Mark Murowany\nChairman of the Industrial Accident Board  \nChristopher F. Baum\, Esquire\nDelaware Department of Labor  \n9:15am-9:45am\nThe Protocols of Practice and Procedure \nH. Garrett Baker\, Esquire\nElzufon Austin & Mondell\, P.A. \nEric D. Boyle\, Esquire\nDelaware Department of Labor \nTara E. Bustard\, Esquire\nDoroshow\, Pasquale\, Krawitz & Bhaya \nStephen T. Morrow\, Esquire\nRhoades & Morrow LLC \n9:45am-10:15am\nMotion Day Magic \nFrederick S. Freibott\, Esquire\nThe Freibott Law Firm\, P.A.  \nHeather A. Long\, Esquire\nLong & Greenberg\, LLC \nGregory P. Skolnik\, Esquire\nHeckler & Frabizzio\, P.A. \n10:15am-10:30am\nBreak \n10:30am-11:15am\nThe Discovery Channel: Pre-Hearing Avenues of Disclosure \nBenjamin K. Durstein\, Esquire\nMarshall Dennehey \nMeghan Butters Houser\, Esquire\nWeiss\, Saville & Houser\, P.A. \nChristopher T. Logullo\, Esquire\nCobb & Logullo \nW. Christopher Componovo\, Esquire\nMorris James LLP \n11:15am-12:00pm\nKeynote Address- The Art of Direct and Cross Examination \nThe Honorable Francis J. Jones\, Jr.\nSuperior Court of the State of Delaware  \n12:00pm-1:00pm\nLunch (Provided) \n1:00pm-1:30pm\nHot Off The Press: Recent Case Law and Other Trends \nCaroline A. Kaminski\, Esquire\nNitsche & Fredricks\, LLC \nJohn J. Ellis\, Esquire\nHeckler & Frabizzio\, P.A.  \n1:30pm-2:15pm\nNot Just Skin Deep- Disfigurement Issues \nTiffany Q. Freidman\, Esquire\nRoeberg Moore & Friedman\, P.A. \nMaria Paris Newill\, Esquire\nHeckler & Frabizzio\, P.A.  \nCassandra F. Roberts\, Esquire\nElzufon Austin & Mondell\, P.A. \nWalt F. Schmittinger\, Esquire\nSchmittinger & Rodriguez\, P.A. \n2:15pm-2:30pm\nBreak \n2:30pm-3:30pm\nEvaluation and Interpretation of Diagnostic Studies \nWilliam R. Stewart III\, Esquire\nPratcher Krayer LLC \nAndrew J. Gelman\, D.O. \nTariq Quraishi\, M.D. \nJames Zaslavsky\, M.D. \n3:30pm-4:30pm\nEthics and the Moral Compass of Workers’ Compensation \nAmanda K. Dobies\, Esquire\nKimmel\, Carter\, Roman\, Peltz & O’Neill\, P.A. \nAndrew M. Lukashunas\, Esquire\nTybout\, Redfearn & Pell \nKeri L. Morris-Johnston\, Esquire\nMarshall Dennehey \nAngela G. Vest\, Esquire\nDoroshow\, Pasquale\, Krawitz & Bhaya \n\n\n\n\n\nCLE PRICING INFORMATION\nCost:\n\n\n\n\nDSBA Members\n$330\n\n\nDSBA Government Members\n$326\n\n\nAffiliated Professionals\n$330\n\n\nNon-members (get member rate by JOINING)\n$430\n\n\nPennsylvania Credit – add:\n$26\n\n\n\n\n* advertised price is for the standard member rate. \nOUT OF STATE CLE CREDIT INFO \nThose attendees who wish to receive CLE credit\, other than from Delaware or Pennsylvania\, should contact their individual State’s CLE Commission for credit. The Delaware State Bar Association can provide you with the Agenda (included in the Materials sent with your registration confirmation) and a Certificate of Attendance (upon completion of the webinar)\, which should meet the requirements of compliance. \nAll rates include CLE Seminar and any materials. To register now or review DSBA CLE Policies\, click below.
URL:https://www.dsba.org/event/workers-compensation-2024/
LOCATION:Riverfront Events/Hyatt\, 760 Justison Street\, Wilmington\, DE\, 19801\, United States
CATEGORIES:CLE Seminar
ATTACH;FMTTYPE=image/jpeg:https://www.dsba.org/wp-content/uploads/2024/03/WC.jpg
END:VEVENT
END:VCALENDAR