BEGIN:VCALENDAR
VERSION:2.0
PRODID:-//Delaware State Bar Association - ECPv6.15.20//NONSGML v1.0//EN
CALSCALE:GREGORIAN
METHOD:PUBLISH
X-WR-CALNAME:Delaware State Bar Association
X-ORIGINAL-URL:https://www.dsba.org
X-WR-CALDESC:Events for Delaware State Bar Association
REFRESH-INTERVAL;VALUE=DURATION:PT1H
X-Robots-Tag:noindex
X-PUBLISHED-TTL:PT1H
BEGIN:VTIMEZONE
TZID:America/New_York
BEGIN:DAYLIGHT
TZOFFSETFROM:-0500
TZOFFSETTO:-0400
TZNAME:EDT
DTSTART:20230312T070000
END:DAYLIGHT
BEGIN:STANDARD
TZOFFSETFROM:-0400
TZOFFSETTO:-0500
TZNAME:EST
DTSTART:20231105T060000
END:STANDARD
BEGIN:DAYLIGHT
TZOFFSETFROM:-0500
TZOFFSETTO:-0400
TZNAME:EDT
DTSTART:20240310T070000
END:DAYLIGHT
BEGIN:STANDARD
TZOFFSETFROM:-0400
TZOFFSETTO:-0500
TZNAME:EST
DTSTART:20241103T060000
END:STANDARD
BEGIN:DAYLIGHT
TZOFFSETFROM:-0500
TZOFFSETTO:-0400
TZNAME:EDT
DTSTART:20250309T070000
END:DAYLIGHT
BEGIN:STANDARD
TZOFFSETFROM:-0400
TZOFFSETTO:-0500
TZNAME:EST
DTSTART:20251102T060000
END:STANDARD
END:VTIMEZONE
BEGIN:VEVENT
DTSTART;TZID=America/New_York:20240606T090000
DTEND;TZID=America/New_York:20240606T150000
DTSTAMP:20260421T080637
CREATED:20240426T183246Z
LAST-MODIFIED:20240528T165615Z
UID:43885-1717664400-1717686000@www.dsba.org
SUMMARY:Bench and Bar 2024
DESCRIPTION:3.0 Hours of CLE credit in Enhanced Ethics for Delaware and Pennsylvania Attorneys\nRegistration FormCourse Materials×Best Practices in the Court of Common Pleas and Justice of the Peace Court\n\n\n					\n			Registration Type:\n			\n				Non-Member			\n\n							- \n					$250.00				\n			\n			 (Please click here to login for member pricing discount)		\n	\n\n\n	\n	\n		Location:\n		\n			\n			\n			DSBA Learning Center\n		\n			\n			\n			Georgetown - Tunnell & Raysor\n		\n			\n			\n			Dover - Morris James\n		\n			\n			\n			Seaford - Aleman & Associates\n		\n	\n	\n\n	\n					Credits:\n				\n			\n\n\n\n	\n		\n		\n			PA Credit - $12.00		\n	\n\n	\n\n		\n			\n			PA ID #:\n			\n			\n			\n			\n				\n					Please enter your PA ID Number\n				\n							\n		\n\n	\n\n\n\n\n\n	\n		\n		\n			NJ Credit - $12.00		\n	\n\n	\n\n		\n			\n			NJ ID #:\n			\n			\n			\n			\n				\n					Please enter your NJ ID Number\n				\n									\n						Please check video description to make sure NJ credit is offered before checking this box.					\n							\n		\n\n	\n\n\n			\n\n\n\n\n\n\n	\n		Add To Cart\n	\n\n	\n		Cancel\n	\n\n\nRegister OnlineAdding to Cart... \nHosted by:\nThe Honorable Collins J. Seitz\, Jr.\nChief Justice of the Supreme Court of Delaware\nJustice Karen L. Valihura\, Justice Gary F. Traynor\, Justice Abigail M. LeGrow\, and Justice N. Christopher Griffiths\nThe Delaware Judicial Conference\nThe Delaware State Bar Association\n\nConference Schedule  \n8:00 a.m. – 9:00 a.m. — Registration Breakfast/Vendor Visit\n9:00 a.m. – 9:15 a.m. — Opening Session: State of the Judiciary\n9:15 a.m. – 10:45 a.m. — CLE Plenary Session with Keynote Speaker Suzanne Spaulding\n                                            Information Threats to Democracy and the Rule of Law\n10:45 a.m. – 11:00 a.m. — Beverage Break/ Vendor Visit\n11:00 a.m. – 12:00 p.m. — Annual Meeting\n12:00 p.m. – 1:00 p.m. — Lunch Reception\n1:00 p.m. – 2:30 p.m. — CLE Plenary Session with Keynote Speaker Haley Moss\n                                            Redefining Neurodiversity in the Legal Profession\n2:30 p.m. – 3:00 p.m. — Dessert Reception and Closing Remarks \n3:15 p.m. – 4:15 p.m. — Preceptor Meeting in the Dravo Auditorium \n\n\nAnnual Meeting:  \n\n\n\n\nPresided over by Kate Harmon\, Esquire\, Delaware State Bar Association President\nPresentation of the First State Distinguished Service Award to The Honorable Jane R. Roth\nRecognition of individuals who have been members of the Delaware Bar for more than 50 years Election of 2024 – 2025 Executive Committee Members\nPassing of the Gavel to the new Delaware State Bar Association President\, Mary Frances Dugan\, Esquire \n\n\n\n\n\n\n\n\n\n\nCLE PRICING INFORMATION\nCost:\n\n\n\n\nDSBA Members\n$250\n\n\nDSBA Government Members\n$125\n\n\nLaw Students & Law Clerks  (No credit)- Please email reception@dsba.org to register!\n$90\n\n\nNon-members (get member rate by JOINING)\n$350\n\n\nPennsylvania Credit – add:\n$12\n\n\n\n\n* advertised price is for the standard member rate. \nOUT OF STATE CLE CREDIT INFO \nThose attendees who wish to receive CLE credit\, other than from Delaware or Pennsylvania\, should contact their individual State’s CLE Commission for credit. The Delaware State Bar Association can provide you with the Agenda (included in the Materials sent with your registration confirmation) and a Certificate of Attendance (upon completion of the webinar)\, which should meet the requirements of compliance. \nAll rates include CLE Seminar and any materials. To register now or review DSBA CLE Policies\, click below.
URL:https://www.dsba.org/event/bench-and-bar-2024/
LOCATION:Chase Center on the Riverfront\, 815 Justison Street\, Wilmington\, DE\, 19801\, United States
CATEGORIES:CLE Seminar
ATTACH;FMTTYPE=image/jpeg:https://www.dsba.org/wp-content/uploads/2024/04/DSBA-Event-Photo2.jpg
END:VEVENT
BEGIN:VEVENT
DTSTART;TZID=America/New_York:20240612T090000
DTEND;TZID=America/New_York:20240612T123000
DTSTAMP:20260421T080637
CREATED:20240509T202619Z
LAST-MODIFIED:20240521T154745Z
UID:44103-1718182800-1718195400@www.dsba.org
SUMMARY:Bankruptcy Nuts and Bolts 2024
DESCRIPTION:Sponsored by the Bankruptcy Section of the Delaware State Bar Association \n3.0 Hours of CLE Credit for Delaware and Pennsylvania Attorneys\nRegistration FormCourse Materials×Best Practices in the Court of Common Pleas and Justice of the Peace Court\n\n\n					\n			Registration Type:\n			\n				Non-Member			\n\n							- \n					$250.00				\n			\n			 (Please click here to login for member pricing discount)		\n	\n\n\n	\n	\n		Location:\n		\n			\n			\n			DSBA Learning Center\n		\n			\n			\n			Georgetown - Tunnell & Raysor\n		\n			\n			\n			Dover - Morris James\n		\n			\n			\n			Seaford - Aleman & Associates\n		\n	\n	\n\n	\n					Credits:\n				\n			\n\n\n\n	\n		\n		\n			PA Credit - $12.00		\n	\n\n	\n\n		\n			\n			PA ID #:\n			\n			\n			\n			\n				\n					Please enter your PA ID Number\n				\n							\n		\n\n	\n\n\n\n\n\n	\n		\n		\n			NJ Credit - $12.00		\n	\n\n	\n\n		\n			\n			NJ ID #:\n			\n			\n			\n			\n				\n					Please enter your NJ ID Number\n				\n									\n						Please check video description to make sure NJ credit is offered before checking this box.					\n							\n		\n\n	\n\n\n			\n\n\n\n\n\n\n	\n		Add To Cart\n	\n\n	\n		Cancel\n	\n\n\nRegister OnlineAdding to Cart... \nThis seminar will be hosted in Wilmington at the new DSBA Conference Center and will be remote broadcasted to Dover and Georgetown. All locations will offer “live” CLE credit.\nWilmington (DSBA)– 704 North King Street\, Suite 110- We are accessible from North King Street only or from the Double Tree Parking Garage\nDover (Morris James)– 850 New Burton Rd Suite 101\, Dover\, DE 19904\nGeorgetown (Tunnell & Raysor)– 30 E Pine St\, Georgetown\, DE 19947\nAn outstanding panel of experts will explain the basics of Chapter 11\, including Subchapter V cases; and Chapter 13 Bankruptcies. This course is designed to provide practitioners with an overview of the Chapters\, from filing to final disposition. \nSpeakers:  \nProfessor Bruce Grohsgal\nWidener University Delaware Law School \nDavid M. Klauder\, Esquire\nBielli & Klauder\, LLC \nMorgan L. Patterson\, Esquire\nWomble Bond Dickinsin LLP \nWilliam F. Jaworski\, Esquire\nThe Law Office of William F. Jaworski \n\n\n\n\n\n\nCLE PRICING INFORMATION\nCost:\n\n\n\n\nDSBA Members\n$180\n\n\nDSBA Government Members\n$160\n\n\n\n\n\n\nNon-members (get member rate by JOINING)\n$280\n\n\nPennsylvania Credit – add:\n$12\n\n\n\n\n* advertised price is for the standard member rate. \nOUT OF STATE CLE CREDIT INFO \nThose attendees who wish to receive CLE credit\, other than from Delaware or Pennsylvania\, should contact their individual State’s CLE Commission for credit. The Delaware State Bar Association can provide you with the Agenda (included in the Materials sent with your registration confirmation) and a Certificate of Attendance (upon completion of the webinar)\, which should meet the requirements of compliance. \nAll rates include CLE Seminar and any materials. To register now or review DSBA CLE Policies\, click below.
URL:https://www.dsba.org/event/bankruptcy-nuts-and-bolts-2024/
LOCATION:Wilmington\, Dover\, Georgetown\, 704 North King Street\, Suite 110\, wilmington\, Delaware(DE)\, 19801\, United States
CATEGORIES:CLE Seminar
ATTACH;FMTTYPE=image/jpeg:https://www.dsba.org/wp-content/uploads/2024/05/1clebanner-1-1.jpg
END:VEVENT
BEGIN:VEVENT
DTSTART;TZID=America/New_York:20240618T090000
DTEND;TZID=America/New_York:20240618T163000
DTSTAMP:20260421T080637
CREATED:20240516T154306Z
LAST-MODIFIED:20260106T172447Z
UID:44182-1718701200-1718728200@www.dsba.org
SUMMARY:Fundamentals of Law Practice Management 2024
DESCRIPTION:Sponsored by the Office of Disciplinary Counsel & DSBA\n5.8 Hours of  CLE credit in Enhanced Ethics for Delaware Attorneys\n5.5 Hours of  CLE credit in Enhanced Ethics for Pennsylvania Attorneys\nRegistration FormCourse Materials×Best Practices in the Court of Common Pleas and Justice of the Peace Court\n\n\n					\n			Registration Type:\n			\n				Non-Member			\n\n							- \n					$250.00				\n			\n			 (Please click here to login for member pricing discount)		\n	\n\n\n	\n	\n		Location:\n		\n			\n			\n			DSBA Learning Center\n		\n			\n			\n			Georgetown - Tunnell & Raysor\n		\n			\n			\n			Dover - Morris James\n		\n			\n			\n			Seaford - Aleman & Associates\n		\n	\n	\n\n	\n					Credits:\n				\n			\n\n\n\n	\n		\n		\n			PA Credit - $12.00		\n	\n\n	\n\n		\n			\n			PA ID #:\n			\n			\n			\n			\n				\n					Please enter your PA ID Number\n				\n							\n		\n\n	\n\n\n\n\n\n	\n		\n		\n			NJ Credit - $12.00		\n	\n\n	\n\n		\n			\n			NJ ID #:\n			\n			\n			\n			\n				\n					Please enter your NJ ID Number\n				\n									\n						Please check video description to make sure NJ credit is offered before checking this box.					\n							\n		\n\n	\n\n\n			\n\n\n\n\n\n\n	\n		Add To Cart\n	\n\n	\n		Cancel\n	\n\n\nRegister OnlineAdding to Cart... \nThis seminar will be hosted in Wilmington at the new DSBA Conference Center and will be remote broadcasted to Dover and Georgetown.\nWilmington (DSBA)– 704 North King Street\, Suite 110- We are accessible from North King Street only or from the Double Tree Parking Garage\nDover (Morris James)– 850 New Burton Rd Suite 101\, Dover\, DE 19904\nGeorgetown (Tunnell & Raysor)– 30 E Pine St\, Georgetown\, DE 19947\nThis course\, which is one of the seven Fundamentals courses offered by DSBA\, focuses on the important relationship between lawyers and their clients. A comprehensive curriculum looks at the decisions lawyers must make in dealing with their clients\, in working within the rules of ethics\, and in seeking assistance when situations become difficult.\nModerator: \nDavid A. White\, Esquire\nOffice of Disciplinary Counsel \nModerator: \nJessica L. Tyler\, Esquire \n9:00 am -10:30 am\nAvoiding a Disciplinary Complaint  \nCharles Slanina\, Esquire\nFinger & Slanina\, LLC \nDavid A. White\, Esquire\nOffice of Disciplinary Counsel  \nJessica L. Tyler\, Esquire \n10:30 am – 10:45 am\nBreak \n10:45 am -12:00 pm\nTechnology and Ethical Practices \nMargaret M. DiBianca\, Esquire\nClark Hill\, PLC \nJessica L. Tyler\, Esquire \n12:00 pm – 1:00 pm\nLunch (On your own)  \n1:15 pm – 2:15 pm\nLaw Office Practice \nGregory P. Skolnik\, Esquire\nHeckler & Frabizzio\, P.A.  \nSamuel D. Pratcher\, Esquire\nPratcher Krayer LLC \nMeghan Butters Houser\, Esquire\nWeiss\, Saville & Houser\, P.A.  \nJames R. Donovan\, Esquire\nDoroshow\, Pasquale\, Krawitz & Bhaya \n2:15 pm – 2:30 pm\nBreak \n2:30 pm -4:00 pm\nLawyer-Client Relations \nLisa M. Grubb\, Esquire\nMarshall Dennehey \nRachel D. Allen\, Esquire\nNitsche & Fredericks\, LLC \nMichael G. Owen\, Esquire\nMorris James LLP \nSarah B. Cole\, Esquire\nMarshall Dennehey \n4:00 pm- 4:30 pm\nWellness and Work/Life Balance \nCarol Waldhauser\nInterim Executive Director of Delaware Lawyers Assistance Program \nMark Vavala\, Esquire\nIncoming Executive Director of Delaware Lawyers Assistance Program \n\n\n\n\n\nCLE PRICING INFORMATION\nCost:\n\n\n\n\nNew Admittees\n$75\n\n\nDSBA Members\n$350\n\n\nDSBA Government Members\n$350\n\n\nNon-members (get member rate by JOINING)\n$450\n\n\nPennsylvania Credit – add:\n$24\n\n\n\n\n* advertised price is for the standard member rate. \nOUT OF STATE CLE CREDIT INFO \nThose attendees who wish to receive CLE credit\, other than from Delaware or Pennsylvania\, should contact their individual State’s CLE Commission for credit. The Delaware State Bar Association can provide you with the Agenda (included in the Materials sent with your registration confirmation) and a Certificate of Attendance (upon completion of the webinar)\, which should meet the requirements of compliance. \nAll rates include CLE Seminar and any materials. To register now or review DSBA CLE Policies\, click below.
URL:https://www.dsba.org/event/fundamentals-of-law-practice-management-2024/
LOCATION:Wilmington\, Dover\, Georgetown\, 704 North King Street\, Suite 110\, wilmington\, Delaware(DE)\, 19801\, United States
CATEGORIES:CLE Seminar
ATTACH;FMTTYPE=image/jpeg:https://www.dsba.org/wp-content/uploads/2024/05/Banner.jpg
END:VEVENT
END:VCALENDAR