BEGIN:VCALENDAR
VERSION:2.0
PRODID:-//Delaware State Bar Association - ECPv6.15.20//NONSGML v1.0//EN
CALSCALE:GREGORIAN
METHOD:PUBLISH
X-WR-CALNAME:Delaware State Bar Association
X-ORIGINAL-URL:https://www.dsba.org
X-WR-CALDESC:Events for Delaware State Bar Association
REFRESH-INTERVAL;VALUE=DURATION:PT1H
X-Robots-Tag:noindex
X-PUBLISHED-TTL:PT1H
BEGIN:VTIMEZONE
TZID:America/New_York
BEGIN:DAYLIGHT
TZOFFSETFROM:-0500
TZOFFSETTO:-0400
TZNAME:EDT
DTSTART:20250309T070000
END:DAYLIGHT
BEGIN:STANDARD
TZOFFSETFROM:-0400
TZOFFSETTO:-0500
TZNAME:EST
DTSTART:20251102T060000
END:STANDARD
BEGIN:DAYLIGHT
TZOFFSETFROM:-0500
TZOFFSETTO:-0400
TZNAME:EDT
DTSTART:20260308T070000
END:DAYLIGHT
BEGIN:STANDARD
TZOFFSETFROM:-0400
TZOFFSETTO:-0500
TZNAME:EST
DTSTART:20261101T060000
END:STANDARD
BEGIN:DAYLIGHT
TZOFFSETFROM:-0500
TZOFFSETTO:-0400
TZNAME:EDT
DTSTART:20270314T070000
END:DAYLIGHT
BEGIN:STANDARD
TZOFFSETFROM:-0400
TZOFFSETTO:-0500
TZNAME:EST
DTSTART:20271107T060000
END:STANDARD
END:VTIMEZONE
BEGIN:VEVENT
DTSTART;TZID=America/New_York:20260519T090000
DTEND;TZID=America/New_York:20260519T121500
DTSTAMP:20260420T023804
CREATED:20260416T133300Z
LAST-MODIFIED:20260416T133915Z
UID:58451-1779181200-1779192900@www.dsba.org
SUMMARY:Best Practices in the Court of Common Pleas and Justice of the Peace Court
DESCRIPTION:Best Practices in the Court of Common Pleas and Justice of the Peace Court\nMay 19\, 2026\n9:00 a.m. – 12:15 p.m.\nPurpose of the Program:  A distinguished panel of judges\, court staff and experienced practitioners will discuss best practices\, ethics and sage advice for practitioners appearing in the Court of Common Pleas and the Justice of the Peace Court. \nModerators:\nRichard K. Herrmann\, Esquire\nIan Connor Bifferato\, Esquire \nPanelists: \nThe Honorable Carl C. Danberg | Court of Common Pleas of the State of Delaware\nThe Honorable Alan Grant Davis | Justice of the Peace Court of the State of Delaware \n9:00 a.m. – 10:45 a.m. – Presentation \nA practical overview of best practices in the Court of Common Pleas\, including filing and e-filing\, motion practice\, courtroom conduct\, and trial preparation\, along with common pitfalls and how cases progress through the court. It also incorporates practitioner insights on avoiding mistakes and effectively managing client expectations. \nThe program then covers the Justice of the Peace Court\, highlighting jurisdiction\, procedures\, and its more informal nature\, with guidance on landlord-tenant matters\, summary actions\, and working with self-represented litigants\, as well as key strategies for appeals\, default judgments\, and enforcement. \n10:45 a.m. – 11:00 a.m. Break \n11:00 am – 11:45 a.m. – Ethics in the Courts (.8 ethics) \nThis ethics segment examines professional responsibility in the Court of Common Pleas and Justice of the Peace Court\, focusing on candor to the court\, duties to opposing counsel\, and how to correct errors or misstatements. It also addresses ethical issues related to client communication\, fees\, limited-scope representation\, and interactions with self-represented litigants\, concluding with practical guidance and key takeaways from the panel. \n11:45 a.m. – 12:15 p.m. – Sage Advice \nThis section invites panelists to share candid insights on effective and ineffective courtroom practices\, including examples of what distinguishes exceptional advocacy\, common pitfalls that derail proceedings\, and key habits that set top practitioners apart\, as well as practical tips for preparation before hearings. It also focuses on the broader perspective of practicing in these courts—lessons learned over time\, advice for handling rulings professionally\, reflections on how practice has evolved\, and final takeaways for practitioners in the Delaware Bar. \nThis seminar offers 3.0 credits\, including .8 ethics to Delaware Attorneys; 3.0 credits to Pennsylvania Attorneys; and 3.6 credits\, including .9 ethics to New Jersey Attorneys. \nLocations available are Wilmington\, Live stream options in Georgetown\, Dover\, and Seaford. \nTo register by mail or email\, please click the blue registration link below. \nTo register online\, please click the green link below. \nRegistration FormCourse Materials×Best Practices in the Court of Common Pleas and Justice of the Peace Court\n\n\n					\n			Registration Type:\n			\n				Non-Member			\n\n							- \n					$250.00				\n			\n			 (Please click here to login for member pricing discount)		\n	\n\n\n	\n	\n		Location:\n		\n			\n			\n			DSBA Learning Center\n		\n			\n			\n			Georgetown - Tunnell & Raysor\n		\n			\n			\n			Dover - Morris James\n		\n			\n			\n			Seaford - Aleman & Associates\n		\n	\n	\n\n	\n					Credits:\n				\n			\n\n\n\n	\n		\n		\n			PA Credit - $12.00		\n	\n\n	\n\n		\n			\n			PA ID #:\n			\n			\n			\n			\n				\n					Please enter your PA ID Number\n				\n							\n		\n\n	\n\n\n\n\n\n	\n		\n		\n			NJ Credit - $12.00		\n	\n\n	\n\n		\n			\n			NJ ID #:\n			\n			\n			\n			\n				\n					Please enter your NJ ID Number\n				\n									\n						Please check video description to make sure NJ credit is offered before checking this box.					\n							\n		\n\n	\n\n\n			\n\n\n\n\n\n\n	\n		Add To Cart\n	\n\n	\n		Cancel\n	\n\n\nRegister OnlineAdding to Cart...  \n* Advertised price is for the standard member rate. \n\n\n\n\n\nCLE PRICING INFORMATION\nCOST:\n\n\n\n\nDSBA Members\n$150\n\n\nDSBA Government Members\n$125\n\n\nNon-Members\n$250\n\n\nPA Credits\n$12\n\n\nNJ Credits\n$12\n\n\n\n\nOUT OF STATE CLE CREDIT INFO \nThose attendees who wish to receive CLE credit\, other than from Delaware\, New Jersey or Pennsylvania\, should contact their individual State’s CLE Commission for credit. The Delaware State Bar Association can provide you with the agenda (included in the Materials sent with your registration confirmation) and a Certificate of Attendance (upon completion of the webinar)\, which should meet the requirements of compliance. \nAll rates include CLE Seminar and any materials. To register now or review DSBA CLE Policies\, click HERE. \nAll materials provided by the deadline will be available by QR code on the day of the seminar. \nReporting of credits: \nPlease be advised that the DSBA has 30 days from the date of the seminar to report credits. Credits will be reported according to the date of the seminar not the date they are entered.
URL:https://www.dsba.org/event/best-practices-in-the-court-of-common-pleas-and-justice-of-the-peace-court/
LOCATION:Wilmington University – Brandywine Campus\, 10 Beaver Valley Road\, Wilmington\, DE\, 19803\, United States
CATEGORIES:CLE Seminar
ATTACH;FMTTYPE=image/jpeg:https://www.dsba.org/wp-content/uploads/2026/04/thumbnail-1.jpg
END:VEVENT
BEGIN:VEVENT
DTSTART;TZID=America/New_York:20260519T130000
DTEND;TZID=America/New_York:20260519T161500
DTSTAMP:20260420T023804
CREATED:20260324T183311Z
LAST-MODIFIED:20260417T141814Z
UID:57999-1779195600-1779207300@www.dsba.org
SUMMARY:Future Developments of Law Involving AI
DESCRIPTION:Future Developments of Law Involving AI\nTuesday\, May 19\, 2026\n1:00 pm – 4:15 pm\n \nModerators\nRichard K. Herrmann\, Esq.\nIan Connor Bifferato\, Esq. \nPresenters\nThe Honorable Thomas M. Horan | United States Bankruptcy Judge\nMichael V. Jacobi | Chief Technology Officer | Young Conaway Stargatt & Taylor\, LLP\nThe Honorable Sean P. Lugg | Superior Court of the State of Delaware \nThis forward-looking CLE explores the evolving legal landscape shaped by artificial intelligence\, inviting attendees to consider how emerging technologies may redefine core principles across multiple areas of law. Framed around a series of hypothetical appellate decisions from the “3rd Celestial Circuit” in 2031\, a panel of judges and practitioners will analyze cutting-edge issues such as the land use implications of large-scale AI infrastructure\, the ethical boundaries of AI-assisted legal practice\, and the admissibility of novel forms of digital and neuro-based evidence. \nThrough these thought-provoking scenarios\, the program will examine challenges ranging from attorney discipline for unregulated AI use\, to bankruptcy complications involving inaccessible digital assets\, to the growing threat of deepfakes in criminal proceedings. Panelists will also explore the continued necessity of human judgment in professional services despite increasing automation. Attendees will gain insight into how courts may balance innovation with accountability and leave better prepared to navigate the legal and ethical complexities of an AI-driven future. \nThe opinions will include: \n\nNew Castle County Homeowners v. Project Washington: a massive AI data center towers over a quiet suburb.\nODC v. Novamind: disciplinary counsel charges attorneys for deploying an unlicensed AI legal assistant in court.\nMarcus Chen v. Stellar Innovations: court orders limited discovery of neural implant memories as evidence in civil litigation.\nIn re NexaCore AI: bankruptcy court confronts lost cryptographic keys locking $500 million in AI assets.\nDeepfakes\, Digital Video & Criminal Law: AI-forged evidence forces courts to rethink authentication and burden of proof.\nPremier Accounting Group v. Board of Accountancy: court holds human oversight remains irreplaceable in AI-assisted audits.\n\nThis seminar offers 3.0 ethics credits to Delaware and Pennsylvania Attorneys; 3.6 ethics credits to New Jersey Attorneys. \nLocations available are Wilmington\, Live stream options in Georgetown\, Dover\, and Seaford. \nTo register by mail or email\, please click the blue registration link below. \nTo register online\, please click the green link below. \nRegistration FormCourse Materials×Best Practices in the Court of Common Pleas and Justice of the Peace Court\n\n\n					\n			Registration Type:\n			\n				Non-Member			\n\n							- \n					$250.00				\n			\n			 (Please click here to login for member pricing discount)		\n	\n\n\n	\n	\n		Location:\n		\n			\n			\n			DSBA Learning Center\n		\n			\n			\n			Georgetown - Tunnell & Raysor\n		\n			\n			\n			Dover - Morris James\n		\n			\n			\n			Seaford - Aleman & Associates\n		\n	\n	\n\n	\n					Credits:\n				\n			\n\n\n\n	\n		\n		\n			PA Credit - $12.00		\n	\n\n	\n\n		\n			\n			PA ID #:\n			\n			\n			\n			\n				\n					Please enter your PA ID Number\n				\n							\n		\n\n	\n\n\n\n\n\n	\n		\n		\n			NJ Credit - $12.00		\n	\n\n	\n\n		\n			\n			NJ ID #:\n			\n			\n			\n			\n				\n					Please enter your NJ ID Number\n				\n									\n						Please check video description to make sure NJ credit is offered before checking this box.					\n							\n		\n\n	\n\n\n			\n\n\n\n\n\n\n	\n		Add To Cart\n	\n\n	\n		Cancel\n	\n\n\nRegister OnlineAdding to Cart...  \n* Advertised price is for the standard member rate. \n\n\n\n\n\nCLE PRICING INFORMATION\nCOST:\n\n\n\n\nDSBA Members\n$150\n\n\nDSBA Government Members\n$125\n\n\nNon-Members\n$250\n\n\nPA Credit\n$12\n\n\nNJ Credit\n$12\n\n\n\n\n OUT OF STATE CLE CREDIT INFO \nThose attendees who wish to receive CLE credit\, other than from Delaware\, New Jersey or Pennsylvania\, should contact their individual State’s CLE Commission for credit. The Delaware State Bar Association can provide you with the agenda (included in the Materials sent with your registration confirmation) and a Certificate of Attendance (upon completion of the webinar)\, which should meet the requirements of compliance. \nAll rates include CLE Seminar and any materials. To register now or review DSBA CLE Policies\, click HERE. \nAll materials provided by the deadline will be available by QR code on the day of the seminar. \nReporting of credits: \nPlease be advised that the DSBA has 30 days from the date of the seminar to report credits. Credits will be reported according to the date of the seminar not the date they are entered.
URL:https://www.dsba.org/event/future-developments-of-law-involving-ai/
LOCATION:Wilmington University – Brandywine Campus\, 10 Beaver Valley Road\, Wilmington\, DE\, 19803\, United States
CATEGORIES:CLE Seminar
ATTACH;FMTTYPE=image/jpeg:https://www.dsba.org/wp-content/uploads/2026/03/AI_and_law_resized_GLI.jpg
END:VEVENT
END:VCALENDAR